Package: bedbaser Version: 1.1.3 Command: rm -rf bedbaser.buildbin-libdir && mkdir bedbaser.buildbin-libdir && /Users/biocbuild/BBS/utils/build-universal.sh bedbaser_1.1.3.tar.gz /Library/Frameworks/R.framework/Resources/bin/R bedbaser.buildbin-libdir StartedAt: 2025-10-14 02:32:48 -0400 (Tue, 14 Oct 2025) EndedAt: 2025-10-14 02:32:59 -0400 (Tue, 14 Oct 2025) EllapsedTime: 10.6 seconds RetCode: 0 Status: OK PackageFile: bedbaser_1.1.3.tgz PackageFileSize: 311.2 KiB