Package: bedbaser Version: 1.1.3 Maintainer: Andres Wokaty MaintainerEmail: jennifer.wokaty at sph.cuny.edu git_url: https://git.bioconductor.org/packages/bedbaser git_branch: devel git_last_commit: 2535e67 git_last_commit_date: 2025-10-12 15:51:16 -0400 (Sun, 12 Oct 2025)