Package: beadarray Version: 2.61.0 Command: /home/biocbuild/bbs-3.23-bioc/R/bin/R CMD check --install=check:beadarray.install-out.txt --library=/home/biocbuild/bbs-3.23-bioc/R/site-library --timings beadarray_2.61.0.tar.gz StartedAt: 2025-11-04 21:13:19 -0500 (Tue, 04 Nov 2025) EndedAt: 2025-11-04 21:13:24 -0500 (Tue, 04 Nov 2025) EllapsedTime: 5.0 seconds RetCode: 1 Status: ERROR CheckDir: beadarray.Rcheck Warnings: NA