Package: beadarray Version: 2.61.0 Command: /home/biocbuild/bbs-3.23-bioc/R/bin/R CMD build --keep-empty-dirs --no-resave-data beadarray StartedAt: 2025-11-04 16:21:59 -0500 (Tue, 04 Nov 2025) EndedAt: 2025-11-04 16:24:37 -0500 (Tue, 04 Nov 2025) EllapsedTime: 158.1 seconds RetCode: 0 Status: OK PackageFile: beadarray_2.61.0.tar.gz PackageFileSize: 3.742 MiB