Package: beadarray Version: 2.59.0 Command: /Library/Frameworks/R.framework/Resources/bin/R CMD INSTALL beadarray StartedAt: 2025-10-13 15:16:30 -0400 (Mon, 13 Oct 2025) EndedAt: 2025-10-13 15:16:40 -0400 (Mon, 13 Oct 2025) EllapsedTime: 10.0 seconds RetCode: 0 Status: OK