Package: beadarray Version: 2.59.0 Command: /Library/Frameworks/R.framework/Resources/bin/R CMD check --install=check:beadarray.install-out.txt --library=/Library/Frameworks/R.framework/Resources/library --no-vignettes --timings beadarray_2.59.0.tar.gz StartedAt: 2025-10-13 18:22:02 -0400 (Mon, 13 Oct 2025) EndedAt: 2025-10-13 18:22:06 -0400 (Mon, 13 Oct 2025) EllapsedTime: 4.0 seconds RetCode: 1 Status: ERROR CheckDir: beadarray.Rcheck Warnings: NA