Package: beachmat Version: 2.27.0 Command: /Library/Frameworks/R.framework/Resources/bin/R CMD INSTALL beachmat StartedAt: 2025-11-20 15:08:09 -0500 (Thu, 20 Nov 2025) EndedAt: 2025-11-20 15:08:40 -0500 (Thu, 20 Nov 2025) EllapsedTime: 30.5 seconds RetCode: 0 Status: OK