Package: beachmat Version: 2.27.0 Command: rm -rf beachmat.buildbin-libdir && mkdir beachmat.buildbin-libdir && /Users/biocbuild/BBS/utils/build-universal.sh beachmat_2.27.0.tar.gz /Library/Frameworks/R.framework/Resources/bin/R beachmat.buildbin-libdir StartedAt: 2025-11-20 23:24:28 -0500 (Thu, 20 Nov 2025) EndedAt: 2025-11-20 23:25:07 -0500 (Thu, 20 Nov 2025) EllapsedTime: 38.9 seconds RetCode: 0 Status: OK PackageFile: beachmat_2.27.0.tgz PackageFileSize: 881.4 KiB