Package: beachmat.tiledb Version: 1.3.0 Command: /home/biocbuild/bbs-3.23-bioc/R/bin/R CMD INSTALL beachmat.tiledb StartedAt: 2025-11-21 15:18:27 -0500 (Fri, 21 Nov 2025) EndedAt: 2025-11-21 15:20:33 -0500 (Fri, 21 Nov 2025) EllapsedTime: 126.2 seconds RetCode: 0 Status: OK