Package: beachmat.tiledb Version: 1.3.0 Command: /home/biocbuild/bbs-3.23-bioc/R/bin/R CMD build --keep-empty-dirs --no-resave-data beachmat.tiledb StartedAt: 2025-11-21 16:24:00 -0500 (Fri, 21 Nov 2025) EndedAt: 2025-11-21 16:26:15 -0500 (Fri, 21 Nov 2025) EllapsedTime: 135.1 seconds RetCode: 0 Status: OK PackageFile: beachmat.tiledb_1.3.0.tar.gz PackageFileSize: 322.1 KiB