Package: beachmat.tiledb Version: 1.3.0 Command: /Library/Frameworks/R.framework/Resources/bin/R CMD build --keep-empty-dirs --no-resave-data beachmat.tiledb StartedAt: 2025-11-19 15:44:28 -0500 (Wed, 19 Nov 2025) EndedAt: 2025-11-19 15:45:04 -0500 (Wed, 19 Nov 2025) EllapsedTime: 36.4 seconds RetCode: 0 Status: OK PackageFile: beachmat.tiledb_1.3.0.tar.gz PackageFileSize: 321.9 KiB