Package: beachmat.tiledb Version: 1.3.0 Command: rm -rf beachmat.tiledb.buildbin-libdir && mkdir beachmat.tiledb.buildbin-libdir && /Users/biocbuild/BBS/utils/build-universal.sh beachmat.tiledb_1.3.0.tar.gz /Library/Frameworks/R.framework/Resources/bin/R beachmat.tiledb.buildbin-libdir StartedAt: 2025-11-19 23:25:07 -0500 (Wed, 19 Nov 2025) EndedAt: 2025-11-19 23:25:48 -0500 (Wed, 19 Nov 2025) EllapsedTime: 40.9 seconds RetCode: 0 Status: OK PackageFile: beachmat.tiledb_1.3.0.tgz PackageFileSize: 734.1 KiB