Package: beachmat.hdf5 Version: 1.9.0 Command: /home/biocbuild/bbs-3.23-bioc/R/bin/R CMD INSTALL beachmat.hdf5 StartedAt: 2025-11-19 15:21:58 -0500 (Wed, 19 Nov 2025) EndedAt: 2025-11-19 15:23:08 -0500 (Wed, 19 Nov 2025) EllapsedTime: 69.7 seconds RetCode: 0 Status: OK