Package: beachmat.hdf5 Version: 1.7.2 Command: /Library/Frameworks/R.framework/Resources/bin/R CMD INSTALL beachmat.hdf5 StartedAt: 2025-10-12 15:33:53 -0400 (Sun, 12 Oct 2025) EndedAt: 2025-10-12 15:35:08 -0400 (Sun, 12 Oct 2025) EllapsedTime: 75.6 seconds RetCode: 0 Status: OK