Package: beachmat.hdf5 Version: 1.7.2 Command: /Library/Frameworks/R.framework/Resources/bin/R CMD build --keep-empty-dirs --no-resave-data beachmat.hdf5 StartedAt: 2025-10-13 16:08:58 -0400 (Mon, 13 Oct 2025) EndedAt: 2025-10-13 16:10:39 -0400 (Mon, 13 Oct 2025) EllapsedTime: 101.0 seconds RetCode: 0 Status: OK PackageFile: beachmat.hdf5_1.7.2.tar.gz PackageFileSize: 297.2 KiB