Package: beachmat.hdf5 Version: 1.7.2 Command: rm -rf beachmat.hdf5.buildbin-libdir && mkdir beachmat.hdf5.buildbin-libdir && /Users/biocbuild/BBS/utils/build-universal.sh beachmat.hdf5_1.7.2.tar.gz /Library/Frameworks/R.framework/Resources/bin/R beachmat.hdf5.buildbin-libdir StartedAt: 2025-10-13 02:21:39 -0400 (Mon, 13 Oct 2025) EndedAt: 2025-10-13 02:23:01 -0400 (Mon, 13 Oct 2025) EllapsedTime: 82.9 seconds RetCode: 0 Status: OK PackageFile: beachmat.hdf5_1.7.2.tgz PackageFileSize: 2.027 MiB