Package: beachmat.hdf5 Version: 1.7.2 Maintainer: Aaron Lun MaintainerEmail: infinite.monkeys.with.keyboards at gmail.com git_url: https://git.bioconductor.org/packages/beachmat.hdf5 git_branch: devel git_last_commit: fedbe05 git_last_commit_date: 2025-10-09 14:34:48 -0400 (Thu, 09 Oct 2025)