Package: bcSeq Version: 1.31.0 Command: /home/biocbuild/bbs-3.22-bioc/R/bin/R CMD check --install=check:bcSeq.install-out.txt --library=/home/biocbuild/bbs-3.22-bioc/R/site-library --timings bcSeq_1.31.0.tar.gz StartedAt: 2025-10-10 21:29:21 -0400 (Fri, 10 Oct 2025) EndedAt: 2025-10-10 21:31:09 -0400 (Fri, 10 Oct 2025) EllapsedTime: 107.9 seconds RetCode: 0 Status: WARNINGS CheckDir: bcSeq.Rcheck Warnings: 1