Package: bcSeq Version: 1.33.0 Command: /home/biocbuild/bbs-3.23-bioc/R/bin/R CMD check --install=check:bcSeq.install-out.txt --library=/home/biocbuild/bbs-3.23-bioc/R/site-library --timings bcSeq_1.33.0.tar.gz StartedAt: 2025-11-21 21:20:49 -0500 (Fri, 21 Nov 2025) EndedAt: 2025-11-21 21:22:33 -0500 (Fri, 21 Nov 2025) EllapsedTime: 104.1 seconds RetCode: 0 Status: WARNINGS CheckDir: bcSeq.Rcheck Warnings: 1