Package: baySeq Version: 2.43.0 Command: /home/biocbuild/R/R/bin/R CMD INSTALL baySeq StartedAt: 2025-10-16 21:28:08 -0000 (Thu, 16 Oct 2025) EndedAt: 2025-10-16 21:28:31 -0000 (Thu, 16 Oct 2025) EllapsedTime: 22.5 seconds RetCode: 0 Status: OK