Package: baySeq Version: 2.43.0 Command: /home/biocbuild/R/R/bin/R CMD build --keep-empty-dirs --no-resave-data baySeq StartedAt: 2025-10-16 23:19:06 -0000 (Thu, 16 Oct 2025) EndedAt: 2025-10-16 23:28:05 -0000 (Thu, 16 Oct 2025) EllapsedTime: 539.1 seconds RetCode: 0 Status: OK PackageFile: baySeq_2.43.0.tar.gz PackageFileSize: 1.109 MiB