Package: baySeq Version: 2.45.0 Command: /home/biocbuild/bbs-3.23-bioc/R/bin/R CMD INSTALL baySeq StartedAt: 2025-11-06 15:15:12 -0500 (Thu, 06 Nov 2025) EndedAt: 2025-11-06 15:15:27 -0500 (Thu, 06 Nov 2025) EllapsedTime: 15.2 seconds RetCode: 0 Status: OK