Package: baySeq Version: 2.45.0 Command: /home/biocbuild/bbs-3.23-bioc/R/bin/R CMD check --install=check:baySeq.install-out.txt --library=/home/biocbuild/bbs-3.23-bioc/R/site-library --timings baySeq_2.45.0.tar.gz StartedAt: 2025-11-16 21:23:36 -0500 (Sun, 16 Nov 2025) EndedAt: 2025-11-16 21:31:44 -0500 (Sun, 16 Nov 2025) EllapsedTime: 488.7 seconds RetCode: 0 Status: OK CheckDir: baySeq.Rcheck Warnings: 0