Package: bayNorm Version: 1.29.0 Command: /home/biocbuild/bbs-3.23-bioc/R/bin/R CMD INSTALL bayNorm StartedAt: 2025-11-05 15:26:01 -0500 (Wed, 05 Nov 2025) EndedAt: 2025-11-05 15:26:47 -0500 (Wed, 05 Nov 2025) EllapsedTime: 45.7 seconds RetCode: 0 Status: OK