Package: bayNorm Version: 1.29.0 Command: /home/biocbuild/bbs-3.23-bioc/R/bin/R CMD build --keep-empty-dirs --no-resave-data bayNorm StartedAt: 2025-11-05 16:27:46 -0500 (Wed, 05 Nov 2025) EndedAt: 2025-11-05 16:28:52 -0500 (Wed, 05 Nov 2025) EllapsedTime: 65.0 seconds RetCode: 0 Status: OK PackageFile: bayNorm_1.29.0.tar.gz PackageFileSize: 1.526 MiB