Package: bayNorm Version: 1.27.0 Command: /Library/Frameworks/R.framework/Resources/bin/R CMD INSTALL bayNorm StartedAt: 2025-10-14 15:20:54 -0400 (Tue, 14 Oct 2025) EndedAt: 2025-10-14 15:21:48 -0400 (Tue, 14 Oct 2025) EllapsedTime: 53.8 seconds RetCode: 0 Status: OK