Package: bayNorm Version: 1.27.0 Command: /Library/Frameworks/R.framework/Resources/bin/R CMD build --keep-empty-dirs --no-resave-data bayNorm StartedAt: 2025-10-14 16:06:46 -0400 (Tue, 14 Oct 2025) EndedAt: 2025-10-14 16:08:13 -0400 (Tue, 14 Oct 2025) EllapsedTime: 87.1 seconds RetCode: 0 Status: OK PackageFile: bayNorm_1.27.0.tar.gz PackageFileSize: 1.526 MiB