Package: bayNorm Version: 1.27.0 Command: /Library/Frameworks/R.framework/Resources/bin/R CMD INSTALL bayNorm StartedAt: 2025-09-30 15:12:39 -0400 (Tue, 30 Sep 2025) EndedAt: 2025-09-30 15:12:54 -0400 (Tue, 30 Sep 2025) EllapsedTime: 15.3 seconds RetCode: 0 Status: OK