Package: bayNorm Version: 1.27.0 Command: /Library/Frameworks/R.framework/Resources/bin/R CMD build --keep-empty-dirs --no-resave-data bayNorm StartedAt: 2025-10-01 15:43:38 -0400 (Wed, 01 Oct 2025) EndedAt: 2025-10-01 15:44:01 -0400 (Wed, 01 Oct 2025) EllapsedTime: 23.3 seconds RetCode: 0 Status: OK PackageFile: bayNorm_1.27.0.tar.gz PackageFileSize: 1.526 MiB