Package: bayNorm Version: 1.27.0 Command: rm -rf bayNorm.buildbin-libdir && mkdir bayNorm.buildbin-libdir && /Users/biocbuild/BBS/utils/build-universal.sh bayNorm_1.27.0.tar.gz /Library/Frameworks/R.framework/Resources/bin/R bayNorm.buildbin-libdir StartedAt: 2025-09-30 22:31:57 -0400 (Tue, 30 Sep 2025) EndedAt: 2025-09-30 22:32:14 -0400 (Tue, 30 Sep 2025) EllapsedTime: 17.3 seconds RetCode: 0 Status: OK PackageFile: bayNorm_1.27.0.tgz PackageFileSize: 478.2 KiB