Package: bayNorm Version: 1.29.0 Maintainer: Wenhao Tang MaintainerEmail: wt215 at ic.ac.uk git_url: https://git.bioconductor.org/packages/bayNorm git_branch: devel git_last_commit: afe0e44 git_last_commit_date: 2025-10-29 10:48:07 -0400 (Wed, 29 Oct 2025)