Package: batchelor Version: 1.25.0 Command: /home/biocbuild/R/R/bin/R CMD build --keep-empty-dirs --no-resave-data batchelor StartedAt: 2025-10-16 23:14:38 -0000 (Thu, 16 Oct 2025) EndedAt: 2025-10-16 23:19:06 -0000 (Thu, 16 Oct 2025) EllapsedTime: 268.1 seconds RetCode: 0 Status: OK PackageFile: batchelor_1.25.0.tar.gz PackageFileSize: 1.35 MiB