Package: batchelor Version: 1.27.0 Command: /home/biocbuild/bbs-3.23-bioc/R/bin/R CMD INSTALL batchelor StartedAt: 2025-11-05 15:59:35 -0500 (Wed, 05 Nov 2025) EndedAt: 2025-11-05 16:00:15 -0500 (Wed, 05 Nov 2025) EllapsedTime: 40.3 seconds RetCode: 0 Status: OK