Package: batchelor Version: 1.27.0 Command: /home/biocbuild/bbs-3.23-bioc/R/bin/R CMD check --install=check:batchelor.install-out.txt --library=/home/biocbuild/bbs-3.23-bioc/R/site-library --timings batchelor_1.27.0.tar.gz StartedAt: 2025-11-25 21:17:52 -0500 (Tue, 25 Nov 2025) EndedAt: 2025-11-25 21:26:35 -0500 (Tue, 25 Nov 2025) EllapsedTime: 522.7 seconds RetCode: 0 Status: OK CheckDir: batchelor.Rcheck Warnings: 0