Package: batchelor Version: 1.27.0 Command: /home/biocbuild/bbs-3.23-bioc/R/bin/R CMD build --keep-empty-dirs --no-resave-data batchelor StartedAt: 2025-11-05 16:26:27 -0500 (Wed, 05 Nov 2025) EndedAt: 2025-11-05 16:29:40 -0500 (Wed, 05 Nov 2025) EllapsedTime: 192.2 seconds RetCode: 0 Status: OK PackageFile: batchelor_1.27.0.tar.gz PackageFileSize: 1.95 MiB