Package: batchCorr Version: 0.99.8 Command: F:\biocbuild\bbs-3.22-bioc\R\bin\R.exe CMD INSTALL batchCorr StartedAt: 2025-08-14 16:02:19 -0400 (Thu, 14 Aug 2025) EndedAt: 2025-08-14 16:02:48 -0400 (Thu, 14 Aug 2025) EllapsedTime: 28.8 seconds RetCode: 0 Status: OK