Package: batchCorr Version: 0.99.8 Command: chmod a+r batchCorr -R && F:\biocbuild\bbs-3.22-bioc\R\bin\R.exe CMD build --keep-empty-dirs --no-resave-data batchCorr StartedAt: 2025-08-14 18:34:19 -0400 (Thu, 14 Aug 2025) EndedAt: 2025-08-14 18:38:18 -0400 (Thu, 14 Aug 2025) EllapsedTime: 238.3 seconds RetCode: 0 Status: OK PackageFile: batchCorr_0.99.8.tar.gz PackageFileSize: 900.8 KiB