Package: batchCorr Version: 0.99.8 Command: rm -rf batchCorr.buildbin-libdir && mkdir batchCorr.buildbin-libdir && F:\biocbuild\bbs-3.22-bioc\R\bin\R.exe CMD INSTALL --build --library=batchCorr.buildbin-libdir batchCorr_0.99.8.tar.gz StartedAt: 2025-08-15 09:46:38 -0400 (Fri, 15 Aug 2025) EndedAt: 2025-08-15 09:47:07 -0400 (Fri, 15 Aug 2025) EllapsedTime: 29.9 seconds RetCode: 0 Status: OK PackageFile: batchCorr_0.99.8.zip PackageFileSize: 983.1 KiB