Package: batchCorr Version: 1.1.0 Command: /home/biocbuild/bbs-3.23-bioc/R/bin/R CMD INSTALL batchCorr StartedAt: 2025-11-05 15:28:46 -0500 (Wed, 05 Nov 2025) EndedAt: 2025-11-05 15:29:07 -0500 (Wed, 05 Nov 2025) EllapsedTime: 21.5 seconds RetCode: 0 Status: OK