Package: batchCorr Version: 1.1.0 Command: /home/biocbuild/bbs-3.23-bioc/R/bin/R CMD check --install=check:batchCorr.install-out.txt --library=/home/biocbuild/bbs-3.23-bioc/R/site-library --timings batchCorr_1.1.0.tar.gz StartedAt: 2025-11-05 21:15:17 -0500 (Wed, 05 Nov 2025) EndedAt: 2025-11-05 21:22:49 -0500 (Wed, 05 Nov 2025) EllapsedTime: 452.6 seconds RetCode: 0 Status: OK CheckDir: batchCorr.Rcheck Warnings: 0