Package: basilisk Version: 1.23.0 Command: /home/biocbuild/bbs-3.23-bioc/R/bin/R CMD INSTALL basilisk StartedAt: 2025-10-30 15:10:26 -0400 (Thu, 30 Oct 2025) EndedAt: 2025-10-30 15:10:42 -0400 (Thu, 30 Oct 2025) EllapsedTime: 15.6 seconds RetCode: 0 Status: OK