Back to Build/check report for BioC 3.23:   simplified   long
A[B]CDEFGHIJKLMNOPQRSTUVWXYZ

This page was generated on 2025-10-31 08:33 -0400 (Fri, 31 Oct 2025).

HostnameOSArch (*)R versionInstalled pkgs
nebbiolo1Linux (Ubuntu 24.04.3 LTS)x86_64R Under development (unstable) (2025-10-20 r88955) -- "Unsuffered Consequences" 4428
Click on any hostname to see more info about the system (e.g. compilers)      (*) as reported by 'uname -p', except on Windows and Mac OS X

All results for package basilisk


To the developers/maintainers of the basilisk package:
- Allow up to 24 hours (and sometimes 48 hours) for your latest push to git@git.bioconductor.org:packages/basilisk.git to reflect on this report. See Troubleshooting Build Report for more information.
- Use the following Renviron settings to reproduce errors and warnings.
- If 'R CMD check' started to fail recently on the Linux builder(s) over a missing dependency, add the missing dependency to 'Suggests:' in your DESCRIPTION file. See Renviron.bioc for more information.

raw results

Package 143/2321HostnameOS / ArchINSTALLBUILDCHECKBUILD BIN
basilisk 1.23.0  (landing page)
Aaron Lun
Snapshot Date: 2025-10-30 13:40 -0400 (Thu, 30 Oct 2025)
git_url: https://git.bioconductor.org/packages/basilisk
git_branch: devel
git_last_commit: b653397
git_last_commit_date: 2025-10-29 10:56:48 -0400 (Wed, 29 Oct 2025)
nebbiolo1Linux (Ubuntu 24.04.3 LTS) / x86_64  OK    OK    OK  YES



Results for Bioconductor software packages that depend directly on package basilisk

QUICK STATSOS / ArchINSTALLBUILDCHECKBUILD BIN
nebbiolo1Linux (Ubuntu 24.04.3 LTS) / x86_64
0227
0425
03220
Package 1/29HostnameOS / ArchINSTALLBUILDCHECKBUILD BIN
BiocHail 1.11.0  (landing page)
Vincent Carey
git_last_commit: 87779e5
git_last_commit_date: 2025-10-29 11:23:05 -0400
nebbiolo1Linux (Ubuntu 24.04.3 LTS) / x86_64  OK    OK    OK  YES
Package 2/29HostnameOS / ArchINSTALLBUILDCHECKBUILD BIN
BiocSklearn 1.33.0  (landing page)
Vince Carey
git_last_commit: c351496
git_last_commit_date: 2025-10-29 10:39:55 -0400
nebbiolo1Linux (Ubuntu 24.04.3 LTS) / x86_64  OK    OK    OK  NO, package depends on 'SummarizedExperiment' which is not available
Package 3/29HostnameOS / ArchINSTALLBUILDCHECKBUILD BIN
cbpManager 1.19.0  (landing page)
Arsenij Ustjanzew
git_last_commit: 2b73688
git_last_commit_date: 2025-10-29 11:09:08 -0400
nebbiolo1Linux (Ubuntu 24.04.3 LTS) / x86_64  OK    OK    WARNINGS  YES
Package 4/29HostnameOS / ArchINSTALLBUILDCHECKBUILD BIN
cfTools 1.11.0  (landing page)
Ran Hu
git_last_commit: 51e7344
git_last_commit_date: 2025-10-29 11:22:51 -0400
nebbiolo1Linux (Ubuntu 24.04.3 LTS) / x86_64  OK    OK    OK  NO, package depends on 'GenomicRanges' which is not available
Package 5/29HostnameOS / ArchINSTALLBUILDCHECKBUILD BIN
crisprScore 1.15.0  (landing page)
Jean-Philippe Fortin
git_last_commit: 8b5dc77
git_last_commit_date: 2025-10-29 11:14:23 -0400
nebbiolo1Linux (Ubuntu 24.04.3 LTS) / x86_64  OK    OK    OK  NO, package depends on 'Biostrings' which is not available
Package 6/29HostnameOS / ArchINSTALLBUILDCHECKBUILD BIN
densvis 1.21.0  (landing page)
Alan O'Callaghan
git_last_commit: 87ce9de
git_last_commit_date: 2025-10-29 11:04:11 -0400
nebbiolo1Linux (Ubuntu 24.04.3 LTS) / x86_64  OK    OK    OK  YES
Package 7/29HostnameOS / ArchINSTALLBUILDCHECKBUILD BIN
DNAcycP2 1.3.0  (landing page)
Ji-Ping Wang
git_last_commit: 98b41bd
git_last_commit_date: 2025-10-29 11:35:02 -0400
nebbiolo1Linux (Ubuntu 24.04.3 LTS) / x86_64  OK    OK    OK  YES
Package 8/29HostnameOS / ArchINSTALLBUILDCHECKBUILD BIN
DOtools 1.1.0  (landing page)
Mariano Ruz Jurado
git_last_commit: 527ea73
git_last_commit_date: 2025-10-29 11:38:46 -0400
nebbiolo1Linux (Ubuntu 24.04.3 LTS) / x86_64  OK    OK    OK  NO, package depends on 'zellkonverter' which is not available
Package 9/29HostnameOS / ArchINSTALLBUILDCHECKBUILD BIN
FLAMES 2.5.0  (landing page)
Changqing Wang
git_last_commit: 0d7a2ee
git_last_commit_date: 2025-10-29 11:10:46 -0400
nebbiolo1Linux (Ubuntu 24.04.3 LTS) / x86_64  OK    OK    ERROR  
Package 10/29HostnameOS / ArchINSTALLBUILDCHECKBUILD BIN
HiCool 1.11.0  (landing page)
Jacques Serizay
git_last_commit: e5a98a3
git_last_commit_date: 2025-10-29 11:21:39 -0400
nebbiolo1Linux (Ubuntu 24.04.3 LTS) / x86_64  OK    OK    ERROR  
Package 11/29HostnameOS / ArchINSTALLBUILDCHECKBUILD BIN
Ibex 1.1.0  (landing page)
Nick Borcherding
git_last_commit: 1dadb52
git_last_commit_date: 2025-10-29 11:38:26 -0400
nebbiolo1Linux (Ubuntu 24.04.3 LTS) / x86_64  OK    OK    OK  NO, package depends on 'immApex' which is not available
Package 12/29HostnameOS / ArchINSTALLBUILDCHECKBUILD BIN
MACSr 1.19.0  (landing page)
Qiang Hu
git_last_commit: 48ace76
git_last_commit_date: 2025-10-29 11:06:10 -0400
nebbiolo1Linux (Ubuntu 24.04.3 LTS) / x86_64  OK    OK    OK  NO, package depends on 'ExperimentHub' which is not available
Package 13/29HostnameOS / ArchINSTALLBUILDCHECKBUILD BIN
MOFA2 1.21.0  (landing page)
Ricard Argelaguet
git_last_commit: 004eb62
git_last_commit_date: 2025-10-29 11:03:36 -0400
nebbiolo1Linux (Ubuntu 24.04.3 LTS) / x86_64  OK    OK    WARNINGS  NO, package depends on 'HDF5Array' which is not available
Package 14/29HostnameOS / ArchINSTALLBUILDCHECKBUILD BIN
ontoProc 2.5.0  (landing page)
Vincent Carey
git_last_commit: a09f239
git_last_commit_date: 2025-10-29 19:20:08 -0400
nebbiolo1Linux (Ubuntu 24.04.3 LTS) / x86_64  OK    OK    ERROR  
Package 15/29HostnameOS / ArchINSTALLBUILDCHECKBUILD BIN
orthos 1.9.0  (landing page)
Panagiotis Papasaikas
git_last_commit: dc6b128
git_last_commit_date: 2025-10-29 11:24:17 -0400
nebbiolo1Linux (Ubuntu 24.04.3 LTS) / x86_64  OK    OK    OK  NO, package depends on 'SummarizedExperiment' which is not available
Package 16/29HostnameOS / ArchINSTALLBUILDCHECKBUILD BIN
Pirat 1.5.0  (landing page)
Lucas Etourneau
git_last_commit: 36eba5c
git_last_commit_date: 2025-10-29 11:30:29 -0400
nebbiolo1Linux (Ubuntu 24.04.3 LTS) / x86_64  OK    ERROR  skipped
Package 17/29HostnameOS / ArchINSTALLBUILDCHECKBUILD BIN
Rcwl 1.27.0  (landing page)
Qiang Hu
git_last_commit: 30294bd
git_last_commit_date: 2025-10-29 10:50:00 -0400
nebbiolo1Linux (Ubuntu 24.04.3 LTS) / x86_64  OK    OK    OK  YES
Package 18/29HostnameOS / ArchINSTALLBUILDCHECKBUILD BIN
recountmethylation 1.21.0  (landing page)
Sean K Maden
git_last_commit: 7346a8e
git_last_commit_date: 2025-10-29 11:01:55 -0400
nebbiolo1Linux (Ubuntu 24.04.3 LTS) / x86_64  OK    ERROR  skipped
Package 19/29HostnameOS / ArchINSTALLBUILDCHECKBUILD BIN
ReUseData 1.11.0  (landing page)
Qian Liu
git_last_commit: 4a5d06b
git_last_commit_date: 2025-10-29 11:20:44 -0400
nebbiolo1Linux (Ubuntu 24.04.3 LTS) / x86_64  OK    OK    OK  YES
Package 20/29HostnameOS / ArchINSTALLBUILDCHECKBUILD BIN
scifer 1.13.0  (landing page)
Rodrigo Arcoverde Cerveira
git_last_commit: 3d9c52d
git_last_commit_date: 2025-10-29 11:18:43 -0400
nebbiolo1Linux (Ubuntu 24.04.3 LTS) / x86_64  OK    OK    OK  NO, package depends on 'Biostrings' which is not available
Package 21/29HostnameOS / ArchINSTALLBUILDCHECKBUILD BIN
scPipe 2.11.0  (landing page)
Shian Su
git_last_commit: fbfb464
git_last_commit_date: 2025-10-29 10:41:32 -0400
nebbiolo1Linux (Ubuntu 24.04.3 LTS) / x86_64  ERROR    ERROR  skipped
Package 22/29HostnameOS / ArchINSTALLBUILDCHECKBUILD BIN
scviR 1.11.0  (landing page)
Vincent Carey
git_last_commit: 4329942
git_last_commit_date: 2025-10-29 11:21:42 -0400
nebbiolo1Linux (Ubuntu 24.04.3 LTS) / x86_64  OK    OK    OK  NO, package depends on 'SingleCellExperiment' which is not available
Package 23/29HostnameOS / ArchINSTALLBUILDCHECKBUILD BIN
SimBu 1.13.0  (landing page)
Alexander Dietrich
git_last_commit: fc87678
git_last_commit_date: 2025-10-29 11:18:10 -0400
nebbiolo1Linux (Ubuntu 24.04.3 LTS) / x86_64  OK    OK    OK  NO, package depends on 'phyloseq' which is not available
Package 24/29HostnameOS / ArchINSTALLBUILDCHECKBUILD BIN
sketchR 1.7.0  (landing page)
Charlotte Soneson
git_last_commit: 25a7083
git_last_commit_date: 2025-10-29 11:28:06 -0400
nebbiolo1Linux (Ubuntu 24.04.3 LTS) / x86_64  OK    OK    OK  NO, package depends on 'DelayedArray' which is not available
Package 25/29HostnameOS / ArchINSTALLBUILDCHECKBUILD BIN
snifter 1.21.0  (landing page)
Alan O'Callaghan
git_last_commit: a11229a
git_last_commit_date: 2025-10-29 11:01:22 -0400
nebbiolo1Linux (Ubuntu 24.04.3 LTS) / x86_64  OK    OK    OK  YES
Package 26/29HostnameOS / ArchINSTALLBUILDCHECKBUILD BIN
spatialDE 1.17.0  (landing page)
Gabriele Sales
git_last_commit: 8ac058d
git_last_commit_date: 2025-10-29 11:11:31 -0400
nebbiolo1Linux (Ubuntu 24.04.3 LTS) / x86_64  OK    OK    OK  NO, package depends on 'SpatialExperiment' which is not available
Package 27/29HostnameOS / ArchINSTALLBUILDCHECKBUILD BIN
stPipe 1.1.0  (landing page)
Yang Xu
git_last_commit: 3b726e3
git_last_commit_date: 2025-10-29 11:37:41 -0400
nebbiolo1Linux (Ubuntu 24.04.3 LTS) / x86_64  ERROR    ERROR  skipped
Package 28/29HostnameOS / ArchINSTALLBUILDCHECKBUILD BIN
velociraptor 1.21.0  (landing page)
Kevin Rue-Albrecht
git_last_commit: b6ed8f8
git_last_commit_date: 2025-10-29 11:02:39 -0400
nebbiolo1Linux (Ubuntu 24.04.3 LTS) / x86_64  OK    OK    OK  NO, package depends on 'SummarizedExperiment' which is not available
Package 29/29HostnameOS / ArchINSTALLBUILDCHECKBUILD BIN
zellkonverter 1.21.0  (landing page)
Luke Zappia
git_last_commit: f372b16
git_last_commit_date: 2025-10-29 11:01:36 -0400
nebbiolo1Linux (Ubuntu 24.04.3 LTS) / x86_64  OK    OK    OK  NO, package depends on 'DelayedArray' which is not available