Package: basilisk.utils Version: 1.23.0 Command: /home/biocbuild/bbs-3.23-bioc/R/bin/R CMD check --install=check:basilisk.utils.install-out.txt --library=/home/biocbuild/bbs-3.23-bioc/R/site-library --timings basilisk.utils_1.23.0.tar.gz StartedAt: 2025-11-07 21:11:02 -0500 (Fri, 07 Nov 2025) EndedAt: 2025-11-07 21:12:33 -0500 (Fri, 07 Nov 2025) EllapsedTime: 91.1 seconds RetCode: 0 Status: OK CheckDir: basilisk.utils.Rcheck Warnings: 0