Package: basilisk.utils Version: 1.23.0 Command: /home/biocbuild/bbs-3.23-bioc/R/bin/R CMD build --keep-empty-dirs --no-resave-data basilisk.utils StartedAt: 2025-11-07 16:19:33 -0500 (Fri, 07 Nov 2025) EndedAt: 2025-11-07 16:19:37 -0500 (Fri, 07 Nov 2025) EllapsedTime: 4.0 seconds RetCode: 0 Status: OK PackageFile: basilisk.utils_1.23.0.tar.gz PackageFileSize: 229 KiB