Package: basecallQC Version: 1.35.0 Command: /home/biocbuild/bbs-3.23-bioc/R/bin/R CMD INSTALL basecallQC StartedAt: 2025-11-05 15:58:08 -0500 (Wed, 05 Nov 2025) EndedAt: 2025-11-05 15:59:02 -0500 (Wed, 05 Nov 2025) EllapsedTime: 53.5 seconds RetCode: 0 Status: OK