Package: basecallQC Version: 1.35.0 Command: /home/biocbuild/bbs-3.23-bioc/R/bin/R CMD build --keep-empty-dirs --no-resave-data basecallQC StartedAt: 2025-11-05 16:24:00 -0500 (Wed, 05 Nov 2025) EndedAt: 2025-11-05 16:25:24 -0500 (Wed, 05 Nov 2025) EllapsedTime: 84.1 seconds RetCode: 0 Status: OK PackageFile: basecallQC_1.35.0.tar.gz PackageFileSize: 1.533 MiB