Package: basecallQC Version: 1.33.0 Command: /Library/Frameworks/R.framework/Resources/bin/R CMD INSTALL basecallQC StartedAt: 2025-10-09 15:42:16 -0400 (Thu, 09 Oct 2025) EndedAt: 2025-10-09 15:43:31 -0400 (Thu, 09 Oct 2025) EllapsedTime: 74.8 seconds RetCode: 0 Status: OK