Package: basecallQC Version: 1.33.0 Command: /Library/Frameworks/R.framework/Resources/bin/R CMD build --keep-empty-dirs --no-resave-data basecallQC StartedAt: 2025-10-09 16:04:25 -0400 (Thu, 09 Oct 2025) EndedAt: 2025-10-09 16:06:13 -0400 (Thu, 09 Oct 2025) EllapsedTime: 107.6 seconds RetCode: 0 Status: OK PackageFile: basecallQC_1.33.0.tar.gz PackageFileSize: 1.525 MiB