Package: basecallQC Version: 1.33.0 Command: rm -rf basecallQC.buildbin-libdir && mkdir basecallQC.buildbin-libdir && /Users/biocbuild/BBS/utils/build-universal.sh basecallQC_1.33.0.tar.gz /Library/Frameworks/R.framework/Resources/bin/R basecallQC.buildbin-libdir StartedAt: 2025-10-10 02:23:12 -0400 (Fri, 10 Oct 2025) EndedAt: 2025-10-10 02:24:32 -0400 (Fri, 10 Oct 2025) EllapsedTime: 80.2 seconds RetCode: 0 Status: OK PackageFile: basecallQC_1.33.0.tgz PackageFileSize: 1.259 MiB