Package: barcodetrackR Version: 1.19.0 Command: /home/biocbuild/bbs-3.23-bioc/R/bin/R CMD build --keep-empty-dirs --no-resave-data barcodetrackR StartedAt: 2025-11-05 16:23:49 -0500 (Wed, 05 Nov 2025) EndedAt: 2025-11-05 16:25:05 -0500 (Wed, 05 Nov 2025) EllapsedTime: 76.1 seconds RetCode: 0 Status: OK PackageFile: barcodetrackR_1.19.0.tar.gz PackageFileSize: 3.436 MiB